BEGIN:VCALENDAR
VERSION:2.0
PRODID:-//myGA //NONSGML Events //EN
CALSCALE:GREGORIAN
X-WR-CALNAME:myGA
BEGIN:VEVENT
CREATED:20210105T155404Z
UID:1035
DTEND;VALUE=DATE:20210401T000000
DTSTART;VALUE=DATE:20210401T000000
DTSTAMP:20260424T232652Z
LOCATION:TBD
DESCRIPTION:Alcohol Awareness Month is a public health program organized by the National Council on Alcoholism and Drug Dependence as a way of increasing outreach and education regarding the dangers of alcoholism and issues related to alcohol. GA's Urban Partnership Drug Free Community and the Urban Partnership for Success Collaborative will help create awareness throughout the month.20210401T000000
SUMMARY:Alcohol Awareness Month
ORGANIZER:myGA
URL;VALUE=URI:https://myga.org/event/alcohol-awareness-month/
TRANSP:OPAQUE
BEGIN:VALARM
ACTION:DISPLAY
TRIGGER;VALUE=DATE-TIME:
DESCRIPTION:Reminder for Alcohol Awareness Month
END:VALARM
END:VEVENT
END:VCALENDAR
