BEGIN:VCALENDAR
VERSION:2.0
PRODID:-//myGA //NONSGML Events //EN
CALSCALE:GREGORIAN
X-WR-CALNAME:myGA
BEGIN:VEVENT
CREATED:20210519T175955Z
UID:1741
DTEND;VALUE=DATE:20210614T080000
DTSTART;VALUE=DATE:20210614T080000
DTSTAMP:20260423T132654Z
LOCATION:Multiple Locations (see below)
DESCRIPTION:Robotics and Life Skills Camp is a new STEM-based educational program offered in the Homestead, Lauderhill/Lauderdale Lakes, and N. Miami/El Portal area. The 7-week program includes robotics, leadership, life skills (including substance use and violence prevention), career planning, physical activity, and field trips. <strong>Curriculum:</strong> <strong>Robotics -</strong> Students will use a coding platform to learn Block Coding Computer Science and Engineering Design Process to design and build competition-ready VEX robots. They will develop teamwork skills such as communication, planning, and problem-solving. <strong>Leadership -</strong> Students will participate in service-learning projects that will develop critical leadership skills with fun, group activities that will help them build confidence, trust, communication, critical thinking, and decision-making skills. <strong>Life Skills -</strong> Students will benefit from an evidence-based substance abuse program that has been extensively tested and proven effective at reducing alcohol and drug use and promoting mental health and positive youth development. <strong>Career Planning -</strong> Students will be introduced to the world of building robotics and coding as a viable and lucrative career pathway. They will learn about the various careers associated with the Information Technology world as well as the school courses that can be beneficial to a career in coding, robotics, or other Information Technology disciplines. <strong>Positive Action Violence Prevention -</strong> Students will benefit from an evidence-based violence prevention program that addresses problems, such as violence-related behavior, disruptive behavior, and bullying, as well as social-emotional learning and positive youth development, shown to improve youth academics, behavior, and character. <strong>The program runs from June 14th -July 30th, 8 am- 3:30 pm, Monday-Friday with breakfast and lunch provided.</strong> <strong>Homestead: </strong>Redland Middle School 16001 SW 248th St, 33031 <em>Contact Ms. Shannen at 786-391-2375</em> <strong>N. Miami/El Portal: </strong>Horace Mann Middle School 8950 NW 2nd Ave., 33150 <em>Contact Mrs. Dashweil at 786-878-0052</em> <strong>Lauderhill/Lauderdale Lakes: </strong>Gang Alternative, Inc.’s Training Center 4500 N. State Rd. 7, #301, 33319 <em>Contact Mrs. Jeanice at 786-593-8466</em>20210614T080000
SUMMARY:FREE Robotics and Life Skills Camp
ORGANIZER:myGA
URL;VALUE=URI:https://myga.org/event/robotics/
TRANSP:OPAQUE
BEGIN:VALARM
ACTION:DISPLAY
TRIGGER;VALUE=DATE-TIME:
DESCRIPTION:Reminder for FREE Robotics and Life Skills Camp
END:VALARM
END:VEVENT
END:VCALENDAR
