BEGIN:VCALENDAR
VERSION:2.0
PRODID:-//myGA //NONSGML Events //EN
CALSCALE:GREGORIAN
X-WR-CALNAME:myGA
BEGIN:VEVENT
CREATED:20220204T210225Z
UID:2213
DTEND;VALUE=DATE:20220223T163000
DTSTART;VALUE=DATE:20220223T163000
DTSTAMP:20260422T215929Z
LOCATION:6620 North Miami Avenue\, Miami\, FL 33150
DESCRIPTION:GA Middle School students learn about the history of Black leaders and celebrate their accomplishments with a call of action as future leaders.20220223T163000
SUMMARY:Middle School Black History Month Event
ORGANIZER:myGA
URL;VALUE=URI:https://myga.org/event/black-history-month-event-3/
TRANSP:OPAQUE
BEGIN:VALARM
ACTION:DISPLAY
TRIGGER;VALUE=DATE-TIME:
DESCRIPTION:Reminder for Middle School Black History Month Event
END:VALARM
END:VEVENT
END:VCALENDAR
