BEGIN:VCALENDAR
VERSION:2.0
PRODID:-//myGA //NONSGML Events //EN
CALSCALE:GREGORIAN
X-WR-CALNAME:myGA
BEGIN:VEVENT
CREATED:20241204T223247Z
UID:5719
DTEND;VALUE=DATE:20241218T160000
DTSTART;VALUE=DATE:20241218T160000
DTSTAMP:20260424T205953Z
LOCATION:Sonata Apartment Homes\, 100 NW 8 St\, Pompano Beach\, FL 33060\, Clubhouse
DESCRIPTION:<strong>Join us for a festive holiday celebration filled with joy and laughter at the Sonata Apartment Homes 🎄</strong> Come together with friends, family, and neighbors for an unforgettable holiday experience. Enjoy a scrumptious meal featuring your favorite seasonal dishes, and dive into a variety of holiday-themed games that promise fun and excitement for everyone. Our celebration is designed to delight guests of all ages, from the little ones to the adults. Young children can participate in creative crafts and fun games, while older kids and adults can enjoy engaging activities and competitions. <strong>Highlights:</strong> <ul> <li>🍽️ Scrumptious holiday meal</li> <li>🎉 Fun games and activities for all ages</li> <li>🎁 Great company and holiday cheer!</li> </ul> <strong>Date:</strong> December 18, 2024 <strong>Time:</strong> 4PM - 6PM <strong>Location:</strong> Sonata Apartment Homes, 100 NW 8 St, Pompano Beach, FL 33060, Clubhouse <p class="cvGsUA direction-ltr align-start para-style-body"><span class="OYPEnA font-feature-liga-off font-feature-clig-off font-feature-calt-off text-decoration-none text-strikethrough-none">For more information </span><span class="OYPEnA font-feature-liga-off font-feature-clig-off font-feature-calt-off text-decoration-none text-strikethrough-none">please contact: Shanteria Randall at SRandall@myga.org</span></p>20241218T160000
SUMMARY:Holiday Family Dinner
ORGANIZER:myGA
URL;VALUE=URI:https://myga.org/event/holiday-family-dinner/
TRANSP:OPAQUE
BEGIN:VALARM
ACTION:DISPLAY
TRIGGER;VALUE=DATE-TIME:
DESCRIPTION:Reminder for Holiday Family Dinner
END:VALARM
END:VEVENT
END:VCALENDAR
