BEGIN:VCALENDAR
VERSION:2.0
PRODID:-//myGA //NONSGML Events //EN
CALSCALE:GREGORIAN
X-WR-CALNAME:myGA
BEGIN:VEVENT
CREATED:20250930T175049Z
UID:6462
DTEND;VALUE=DATE:20251101T120000
DTSTART;VALUE=DATE:20251101T120000
DTSTAMP:20260424T221002Z
LOCATION:Little Haiti Community Center 6620 North Miami Ave. Miami 33150
DESCRIPTION:<p class="cvGsUA direction-ltr align-start para-style-body"><strong><span class="a_GcMg font-feature-liga-off font-feature-clig-off font-feature-calt-off text-decoration-none text-strikethrough-none">Calling all youth, families, and community members!</span></strong></p> <p class="cvGsUA direction-ltr align-start para-style-body"><span class="a_GcMg font-feature-liga-off font-feature-clig-off font-feature-calt-off text-decoration-none text-strikethrough-none">Get ready to celebrate the bountiful harvest season with us at our Harvest Festival! This exciting event is for everyone, offering an unforgettable day filled with FREE activities, delicious food, music, countless candies, amazing prizes, and so much more! We’re excited to plant seeds of faith and fun together as a community.</span></p> Don't forget to come in your fun, non-scary costumes! <span class="a_GcMg font-feature-liga-off font-feature-clig-off font-feature-calt-off text-decoration-none text-strikethrough-none">Contact Charlene Alcide Simillien at 786-494-9835 </span><span class="a_GcMg font-feature-liga-off font-feature-clig-off font-feature-calt-off text-decoration-none text-strikethrough-none">or Junior Marseille at 954-816-0389 for more info.</span>20251101T120000
SUMMARY:Harvest Festival
ORGANIZER:myGA
URL;VALUE=URI:https://myga.org/event/harvest-festival-2/
TRANSP:OPAQUE
BEGIN:VALARM
ACTION:DISPLAY
TRIGGER;VALUE=DATE-TIME:
DESCRIPTION:Reminder for Harvest Festival
END:VALARM
END:VEVENT
END:VCALENDAR
