BEGIN:VCALENDAR
VERSION:2.0
PRODID:-//myGA //NONSGML Events //EN
CALSCALE:GREGORIAN
X-WR-CALNAME:myGA
BEGIN:VEVENT
CREATED:20250930T182826Z
UID:6466
DTEND;VALUE=DATE:20251122T090000
DTSTART;VALUE=DATE:20251122T090000
DTSTAMP:20260424T202958Z
LOCATION:Four locations!
DESCRIPTION:<h3 class="cvGsUA direction-ltr align-center para-style-body"><span class="a_GcMg font-feature-liga-off font-feature-clig-off font-feature-calt-off text-decoration-none text-strikethrough-none">Join us!</span></h3> <p class="cvGsUA direction-ltr align-center para-style-body"><span class="a_GcMg font-feature-liga-off font-feature-clig-off font-feature-calt-off text-decoration-none text-strikethrough-none">Come to our community resource fair where we'll be partnering with local vendors to provide services and information to our families this holiday season! </span><span class="a_GcMg font-feature-liga-off font-feature-clig-off font-feature-calt-off text-decoration-none text-strikethrough-none">Turkeys will be distributed to families, on a first come, first served basis. We will have hot food, games, family engagement, and family resources.</span></p> <p class="cvGsUA direction-ltr align-center para-style-body"><span class="a_GcMg font-feature-liga-off font-feature-clig-off font-feature-calt-off text-decoration-none text-strikethrough-none">Vendors are encouraged to bring non-perishable food items, gift cards and/or </span><span class="a_GcMg font-feature-liga-off font-feature-clig-off font-feature-calt-off text-decoration-none text-strikethrough-none">additional resources to assist us in serving families this holiday season.</span></p> <h5></h5> <h4>Four locations!</h4> Little Haiti Community Center, 6620 N. Miami Ave. Miami 33150 New Birth Missionary Baptist Church 807 NW 8 St., Fort Lauderdale 33311 Community Center at Phichol Williams, 951 SW 4<sup>th</sup> St., Homestead 33030 Gang Alternative, Inc., 24 SW Avenue B, Belle Glade 33430  20251122T090000
SUMMARY:15th Annual Compassion Project
ORGANIZER:myGA
URL;VALUE=URI:https://myga.org/event/15th-annual-compassion-project/
TRANSP:OPAQUE
BEGIN:VALARM
ACTION:DISPLAY
TRIGGER;VALUE=DATE-TIME:
DESCRIPTION:Reminder for 15th Annual Compassion Project
END:VALARM
END:VEVENT
END:VCALENDAR
