BEGIN:VCALENDAR
VERSION:2.0
PRODID:-//myGA //NONSGML Events //EN
CALSCALE:GREGORIAN
X-WR-CALNAME:myGA
BEGIN:VEVENT
CREATED:20260413T152408Z
UID:6848
DTEND;VALUE=DATE:20260608T090000
DTSTART;VALUE=DATE:20260608T090000
DTSTAMP:20260419T201131Z
LOCATION:Three South Florida Locations!
DESCRIPTION:<h4>FREE Camp June 8-July 31!</h4> Attention all kids! Get ready to unlock your inner creativity, learn life-skills, enhance your education, play sports and go on exciting field trips at our Summer Camp! Enjoy delicious breakfast and lunch every day too. Don't miss out on all the amazing things we have planned for you. Sign up now and let the adventure begin! We can't wait to see you there! <h5>MIAMI LOCATIONS</h5> <ul> <li>Little Haiti Community Center,  6620 N Miami Ave., Miami  33150</li> <li>North Miami Senior High School, 13110 NE 8th Ave., North Miami  33161</li> </ul> <h5>HOMESTEAD LOCATION</h5> <ul> <li>Phichol Williams Community Center, 951 SW 4th St, Homestead  33030</li> </ul> For more information, contact Ms. Charlene Alcide Simillien at 786-494-9835 or <a href="mailto:calcide-simillien@myga.org">calcide-simillien@myga.org </a>20260608T090000
SUMMARY:Free BLOC Summer Camp
ORGANIZER:myGA
URL;VALUE=URI:https://myga.org/event/bloc-summer-camp-3/
TRANSP:OPAQUE
BEGIN:VALARM
ACTION:DISPLAY
TRIGGER;VALUE=DATE-TIME:
DESCRIPTION:Reminder for Free BLOC Summer Camp
END:VALARM
END:VEVENT
END:VCALENDAR
