BEGIN:VCALENDAR
VERSION:2.0
PRODID:-//myGA //NONSGML Events //EN
CALSCALE:GREGORIAN
X-WR-CALNAME:myGA
BEGIN:VEVENT
CREATED:20260413T154340Z
UID:6854
DTEND;VALUE=DATE:20260608T073000
DTSTART;VALUE=DATE:20260608T073000
DTSTAMP:20260419T220019Z
LOCATION:Five different locations!
DESCRIPTION:<h4>FREE Camp June 8-July 31!</h4> Join us for fun and creative activities. Weekly field trips, breakfast, literacy, STEM, creative arts, and physical fitness with daily breakfast, lunch included. <h5>Miami Locations</h5> <ul> <li>North Miami Church of the Nazarene, 1195 NW 124 Street, Miami 33168</li> <li>Edison Park, 500 NW 67th St, Miami 33150</li> <li>Orchard Villa Elementary, 5720 NW 13 Ave, Miami 33142</li> <li>Additional Sites TBD</li> </ul> For more information on the Miami locations, please contact Mrs. Jazmine at (786) 593-8462. <h5>Homstead Locations</h5> <ul> <li>Phichol Williams Community Center, 951 SW 4 Street, Homestead 33030</li> <li>Florida City Elementary, 364 NW 6th Ave, Florida City 33034</li> <li>Additional Sites TBD</li> </ul> For more information on the Homestead locations, please contact Ms. Briana (786) 858-1562.20260608T073000
SUMMARY:Free GPS Summer Camp
ORGANIZER:myGA
URL;VALUE=URI:https://myga.org/event/free-gps-summer-camp/
TRANSP:OPAQUE
BEGIN:VALARM
ACTION:DISPLAY
TRIGGER;VALUE=DATE-TIME:
DESCRIPTION:Reminder for Free GPS Summer Camp
END:VALARM
END:VEVENT
END:VCALENDAR
