BEGIN:VCALENDAR
VERSION:2.0
PRODID:-//myGA //NONSGML Events //EN
CALSCALE:GREGORIAN
X-WR-CALNAME:myGA
BEGIN:VEVENT
CREATED:20260414T165549Z
UID:6861
DTEND;VALUE=DATE:20260430T163000
DTSTART;VALUE=DATE:20260430T163000
DTSTAMP:20260419T215353Z
LOCATION:6620 N. Miami Ave.\, Miami 33150
DESCRIPTION:<h4 class="cvGsUA direction-ltr align-start para-style-body"><span class="a_GcMg font-feature-liga-off font-feature-clig-off font-feature-calt-off text-decoration-none text-strikethrough-none">Postive Discipline and Guidance: Building Character and Respectful Children</span></h4> <p class="cvGsUA direction-ltr align-start para-style-body"><span class="a_GcMg font-feature-liga-off font-feature-clig-off font-feature-calt-off text-decoration-none text-strikethrough-none">Join our welcoming and supportive space for parents and families to come together, learn, and grow.</span></p> <p class="cvGsUA direction-ltr align-start para-style-body"><span class="a_GcMg font-feature-liga-off font-feature-clig-off font-feature-calt-off text-decoration-none text-strikethrough-none">Hosted by UPLIFT Parent Circle and presented by Chaundra Whitehead from Affirming Youth, this engaging session will share practical, easy-to-use strategies to help you guide your child’s behavior, strengthen their social-emotional skills, and build a more peaceful, respectful home environment.</span></p> <p class="cvGsUA direction-ltr align-start para-style-body"><span class="a_GcMg font-feature-liga-off font-feature-clig-off font-feature-calt-off text-decoration-none text-strikethrough-none">You’ll walk away with real tools you can use right away, all grounded in approaches that honor your family’s culture, relationships, and everyday experiences.</span></p> <p class="cvGsUA direction-ltr align-start para-style-body">For more information, please contact Pierre Chateau at 786-858-4906 or pchateau@myga.org.</p> <p class="cvGsUA direction-ltr align-start para-style-body"></p>20260430T163000
SUMMARY:UPLIFT Parent Circle April 2026
ORGANIZER:myGA
URL;VALUE=URI:https://myga.org/event/uplift-parent-circle-april-2026/
TRANSP:OPAQUE
BEGIN:VALARM
ACTION:DISPLAY
TRIGGER;VALUE=DATE-TIME:
DESCRIPTION:Reminder for UPLIFT Parent Circle April 2026
END:VALARM
END:VEVENT
END:VCALENDAR
