BEGIN:VCALENDAR
VERSION:2.0
PRODID:-//myGA //NONSGML Events //EN
CALSCALE:GREGORIAN
X-WR-CALNAME:myGA
BEGIN:VEVENT
CREATED:20260416T202837Z
UID:6866
DTEND;VALUE=DATE:20260515T163000
DTSTART;VALUE=DATE:20260515T163000
DTSTAMP:20260419T215716Z
LOCATION:6620 N. Miami Ave.\, Miami 33150
DESCRIPTION:<h4 data-start="322" data-end="441"><span class="relative -mx-px my-[-0.2rem] rounded px-px py-[0.2rem] transition-colors duration-100 ease-in-out">Join us for an unforgettable afternoon!</span></h4> <p class="" data-start="322" data-end="441"><span class="relative -mx-px my-[-0.2rem] rounded px-px py-[0.2rem] transition-colors duration-100 ease-in-out">BLOC is holding its Haitian Heritage Month Celebration. </span><span class="relative -mx-px my-[-0.2rem] rounded px-px py-[0.2rem] transition-colors duration-100 ease-in-out">This special 1.5-hour event honors the vibrant culture, rich history, and enduring spirit of Haiti through a dynamic showcase of the talents of the program's middle and high school students. </span>​</p> <h4 data-start="443" data-end="466">🎭 Event Highlights</h4> <ul data-start="468" data-end="1079"> <li class="" data-start="468" data-end="584"> <p class="" data-start="470" data-end="584"><strong data-start="470" data-end="501">Poetry & Dance Performances</strong>​</p> </li> <li class="" data-start="586" data-end="722"> <p class="" data-start="588" data-end="722"><strong data-start="588" data-end="635">Walk Through Haiti's Fight for Independence</strong></p> </li> <li class="" data-start="586" data-end="722"> <p class="" data-start="588" data-end="722"><strong data-start="726" data-end="748">Live Music & Dance</strong> ​</p> </li> <li class="" data-start="837" data-end="955"> <p class="" data-start="839" data-end="955"><strong data-start="839" data-end="868">Delicious Haitian Cuisine</strong>​</p> </li> <li class="" data-start="957" data-end="1079"> <p class="" data-start="959" data-end="1079"><strong data-start="959" data-end="992">And so much more</strong></p> </li> </ul> <span class="relative -mx-px my-[-0.2rem] rounded px-px py-[0.2rem] transition-colors duration-100 ease-in-out">Haitian Heritage Month is celebrated annually throughout May in the U.S. May 31. First</span><span class="relative -mx-px my-[-0.2rem] rounded px-px py-[0.2rem] transition-colors duration-100 ease-in-out"> observed in 1998 in Boston, Massachusetts, it honors Haitian history, culture, and contributions to the world.</span>20260515T163000
SUMMARY:BLOC Haitian Heritage Month Celebration 2026
ORGANIZER:myGA
URL;VALUE=URI:https://myga.org/event/bloc-haitian-heritage-month-celebration-2026/
TRANSP:OPAQUE
BEGIN:VALARM
ACTION:DISPLAY
TRIGGER;VALUE=DATE-TIME:
DESCRIPTION:Reminder for BLOC Haitian Heritage Month Celebration 2026
END:VALARM
END:VEVENT
END:VCALENDAR
