BEGIN:VCALENDAR
VERSION:2.0
PRODID:-//myGA //NONSGML Events //EN
CALSCALE:GREGORIAN
X-WR-CALNAME:myGA
BEGIN:VEVENT
CREATED:20260417T150045Z
UID:6875
DTEND;VALUE=DATE:20260506T183000
DTSTART;VALUE=DATE:20260506T183000
DTSTAMP:20260419T215415Z
LOCATION:GA's Little Haiti Community Center\, 6620 N. Miami Ave.\, Miami 33150
DESCRIPTION:<h4>Come celebrate!</h4> Join us for an evening of pride and celebration as we honor the remarkable achievements of the BLOC Class of 2026. This special night is dedicated to recognizing our seniors' hard work, leadership, and personal growth. We invite parents and families to share in this milestone as we highlight our graduates' journey. For more information please contact Ms. Charlene Alcide Similiien at calcide-simillien@myga.org or 786-494-9835.20260506T183000
SUMMARY:BLOC Senior Night Celebration 2026
ORGANIZER:myGA
URL;VALUE=URI:https://myga.org/event/bloc-senior-night-celebrationn-2026/
TRANSP:OPAQUE
BEGIN:VALARM
ACTION:DISPLAY
TRIGGER;VALUE=DATE-TIME:
DESCRIPTION:Reminder for BLOC Senior Night Celebration 2026
END:VALARM
END:VEVENT
END:VCALENDAR
